BEGIN:VCALENDAR
VERSION:2.0
PRODID:-//162.241.225.48//NONSGML kigkonsult.se iCalcreator 2.26.9//
CALSCALE:GREGORIAN
METHOD:PUBLISH
X-FROM-URL:https://www.essexumc.com
X-WR-TIMEZONE:America/New_York
BEGIN:VTIMEZONE
TZID:America/New_York
X-LIC-LOCATION:America/New_York
BEGIN:STANDARD
DTSTART:20251102T020000
TZOFFSETFROM:-0400
TZOFFSETTO:-0500
RDATE:20261101T020000
TZNAME:EST
END:STANDARD
BEGIN:DAYLIGHT
DTSTART:20260308T020000
TZOFFSETFROM:-0500
TZOFFSETTO:-0400
RDATE:20270314T020000
TZNAME:EDT
END:DAYLIGHT
END:VTIMEZONE
BEGIN:VEVENT
UID:3ghka6999ed3phpa82m1m7977t@google.com
DTSTAMP:20260423T154843Z
CATEGORIES:
CONTACT:
DESCRIPTION:<p>Each Sunday morning we gather for worship at 10:00 A.M. The 
 service is family-friendly with music and a Young People’s Message.</p>\n<
 p>Join us for in-person worship at Essex Center UMC\, or join us virtually
  on Facebook Live. If you are attending in person\, please wear a mask.</p
 >\n<p>To join us online \, visit <a href='https://www.facebook.com/EssexCe
 nterUMC' id='ow1875'>https://www.facebook.com/EssexCenterUMC</a></p>
DTSTART;TZID=America/New_York:20230430T100000
DTEND;TZID=America/New_York:20230430T113000
LOCATION:Essex Center United Methodist Church\, 119 Center Rd\, Essex Junct
 ion\, VT 05452\, USA
RRULE:FREQ=WEEKLY;BYDAY=SU
SEQUENCE:0
SUMMARY:Worship
URL:https://www.essexumc.com/event/worship-5/
END:VEVENT
BEGIN:VEVENT
UID:442d79hgpmnejojj4r7e2d1cee@google.com
DTSTAMP:20260423T154843Z
CATEGORIES:
CONTACT:
DESCRIPTION:<p>All are welcome!</p>
DTSTART;TZID=America/New_York:20231224T190000
DTEND;TZID=America/New_York:20231224T200000
LOCATION:Essex Center United Methodist Church\, 119 Center Rd\, Essex Junct
 ion\, VT 05452\, USA
SEQUENCE:0
SUMMARY:Christmas Eve Service
URL:https://www.essexumc.com/event/christmas-eve-service-2/
END:VEVENT
END:VCALENDAR
